BEGIN:VCALENDAR
VERSION:2.0
PRODID:spatie/icalendar-generator
DESCRIPTION:Events from Columbia Law Review
X-WR-CALDESC:Events from Columbia Law Review
REFRESH-INTERVAL;VALUE=DURATION:PT1440M
X-PUBLISHED-TTL:PT1440M
BEGIN:VTIMEZONE
TZID:America/New_York
BEGIN:STANDARD
DTSTART:20221106T020000Z
TZOFFSETFROM:-0400
TZOFFSETTO:-0500
END:STANDARD
BEGIN:DAYLIGHT
DTSTART:20230312T020000Z
TZOFFSETFROM:-0500
TZOFFSETTO:-0400
END:DAYLIGHT
BEGIN:STANDARD
DTSTART:20231105T020000Z
TZOFFSETFROM:-0400
TZOFFSETTO:-0500
END:STANDARD
END:VTIMEZONE
BEGIN:VTIMEZONE
TZID:UTC
BEGIN:STANDARD
DTSTART:20250724T141411Z
TZOFFSETFROM:+0000
TZOFFSETTO:+0000
END:STANDARD
END:VTIMEZONE
BEGIN:VEVENT
UID:14-3
DTSTAMP:20260420T141411Z
SUMMARY:Selection Weekend
LOCATION:
ORGANIZER;CN=Managing Editors:MAILTO:eme@columbialawreview.org
DTSTART;TZID=America/New_York;VALUE=DATE:20230701
DTEND;TZID=America/New_York;VALUE=DATE:20230703
X-ALT-DESC;FMTTYPE=TEXT/HTML:
CATEGORIES:General
URL;VALUE=URI:https://columbialawreview.org/mc-events/selection-weekend/
METHOD:PUBLISH
END:VEVENT
END:VCALENDAR